BEGIN:VCALENDAR
VERSION:2.0
PRODID:-//Dampfbahnfreunde Sindelfingen e.V. - ECPv6.15.15//NONSGML v1.0//EN
CALSCALE:GREGORIAN
METHOD:PUBLISH
X-WR-CALNAME:Dampfbahnfreunde Sindelfingen e.V.
X-ORIGINAL-URL:https://dbf-s.de
X-WR-CALDESC:Veranstaltungen für Dampfbahnfreunde Sindelfingen e.V.
REFRESH-INTERVAL;VALUE=DURATION:PT1H
X-Robots-Tag:noindex
X-PUBLISHED-TTL:PT1H
BEGIN:VTIMEZONE
TZID:Europe/Berlin
BEGIN:DAYLIGHT
TZOFFSETFROM:+0100
TZOFFSETTO:+0200
TZNAME:CEST
DTSTART:20250330T010000
END:DAYLIGHT
BEGIN:STANDARD
TZOFFSETFROM:+0200
TZOFFSETTO:+0100
TZNAME:CET
DTSTART:20251026T010000
END:STANDARD
BEGIN:DAYLIGHT
TZOFFSETFROM:+0100
TZOFFSETTO:+0200
TZNAME:CEST
DTSTART:20260329T010000
END:DAYLIGHT
BEGIN:STANDARD
TZOFFSETFROM:+0200
TZOFFSETTO:+0100
TZNAME:CET
DTSTART:20261025T010000
END:STANDARD
BEGIN:DAYLIGHT
TZOFFSETFROM:+0100
TZOFFSETTO:+0200
TZNAME:CEST
DTSTART:20270328T010000
END:DAYLIGHT
BEGIN:STANDARD
TZOFFSETFROM:+0200
TZOFFSETTO:+0100
TZNAME:CET
DTSTART:20271031T010000
END:STANDARD
END:VTIMEZONE
BEGIN:VEVENT
DTSTART;TZID=Europe/Berlin:20260802T100000
DTEND;TZID=Europe/Berlin:20260802T180000
DTSTAMP:20260422T221251
CREATED:20260209T201147Z
LAST-MODIFIED:20260209T202219Z
UID:737-1785664800-1785693600@dbf-s.de
SUMMARY:Teddybärentag
DESCRIPTION:Kinder bis 17 Jahre mit Kuscheltier fahren frei.
URL:https://dbf-s.de/event/teddybaerentag/
CATEGORIES:Sonderveranstaltung
END:VEVENT
BEGIN:VEVENT
DTSTART;TZID=Europe/Berlin:20260809T100000
DTEND;TZID=Europe/Berlin:20260809T180000
DTSTAMP:20260422T221251
CREATED:20260209T201151Z
LAST-MODIFIED:20260209T201151Z
UID:739-1786269600-1786298400@dbf-s.de
SUMMARY:Fahrtag
DESCRIPTION:Regulärer Fahrbetrieb So.
URL:https://dbf-s.de/event/fahrtag-14/
CATEGORIES:Fahrtag
END:VEVENT
BEGIN:VEVENT
DTSTART;TZID=Europe/Berlin:20260816T100000
DTEND;TZID=Europe/Berlin:20260816T180000
DTSTAMP:20260422T221251
CREATED:20260209T201153Z
LAST-MODIFIED:20260209T201153Z
UID:740-1786874400-1786903200@dbf-s.de
SUMMARY:Fahrtag
DESCRIPTION:Regulärer Fahrbetrieb So.
URL:https://dbf-s.de/event/fahrtag-15/
CATEGORIES:Fahrtag
END:VEVENT
BEGIN:VEVENT
DTSTART;TZID=Europe/Berlin:20260823T100000
DTEND;TZID=Europe/Berlin:20260823T180000
DTSTAMP:20260422T221251
CREATED:20260209T201200Z
LAST-MODIFIED:20260209T201200Z
UID:741-1787479200-1787508000@dbf-s.de
SUMMARY:Fahrtag
DESCRIPTION:Regulärer Fahrbetrieb So.
URL:https://dbf-s.de/event/fahrtag-16/
CATEGORIES:Fahrtag
END:VEVENT
BEGIN:VEVENT
DTSTART;TZID=Europe/Berlin:20260830T100000
DTEND;TZID=Europe/Berlin:20260830T180000
DTSTAMP:20260422T221251
CREATED:20260209T201149Z
LAST-MODIFIED:20260209T202251Z
UID:738-1788084000-1788112800@dbf-s.de
SUMMARY:Dampflokfest
DESCRIPTION:Großes Dampflokfest beim DBF-S.
URL:https://dbf-s.de/event/dampflokfest/
CATEGORIES:Sonderveranstaltung
END:VEVENT
END:VCALENDAR