BEGIN:VCALENDAR
VERSION:2.0
PRODID:-//Dampfbahnfreunde Sindelfingen e.V. - ECPv6.15.15//NONSGML v1.0//EN
CALSCALE:GREGORIAN
METHOD:PUBLISH
X-ORIGINAL-URL:https://dbf-s.de
X-WR-CALDESC:Veranstaltungen für Dampfbahnfreunde Sindelfingen e.V.
REFRESH-INTERVAL;VALUE=DURATION:PT1H
X-Robots-Tag:noindex
X-PUBLISHED-TTL:PT1H
BEGIN:VTIMEZONE
TZID:Europe/Berlin
BEGIN:DAYLIGHT
TZOFFSETFROM:+0100
TZOFFSETTO:+0200
TZNAME:CEST
DTSTART:20250330T010000
END:DAYLIGHT
BEGIN:STANDARD
TZOFFSETFROM:+0200
TZOFFSETTO:+0100
TZNAME:CET
DTSTART:20251026T010000
END:STANDARD
BEGIN:DAYLIGHT
TZOFFSETFROM:+0100
TZOFFSETTO:+0200
TZNAME:CEST
DTSTART:20260329T010000
END:DAYLIGHT
BEGIN:STANDARD
TZOFFSETFROM:+0200
TZOFFSETTO:+0100
TZNAME:CET
DTSTART:20261025T010000
END:STANDARD
BEGIN:DAYLIGHT
TZOFFSETFROM:+0100
TZOFFSETTO:+0200
TZNAME:CEST
DTSTART:20270328T010000
END:DAYLIGHT
BEGIN:STANDARD
TZOFFSETFROM:+0200
TZOFFSETTO:+0100
TZNAME:CET
DTSTART:20271031T010000
END:STANDARD
END:VTIMEZONE
BEGIN:VEVENT
DTSTART;TZID=Europe/Berlin:20260426T100000
DTEND;TZID=Europe/Berlin:20260426T180000
DTSTAMP:20260422T174236
CREATED:20260209T201044Z
LAST-MODIFIED:20260209T201044Z
UID:720-1777197600-1777226400@dbf-s.de
SUMMARY:Fahrtag
DESCRIPTION:Regulärer Fahrbetrieb So.
URL:https://dbf-s.de/event/fahrtag-3/
CATEGORIES:Fahrtag
END:VEVENT
BEGIN:VEVENT
DTSTART;TZID=Europe/Berlin:20260501T100000
DTEND;TZID=Europe/Berlin:20260501T180000
DTSTAMP:20260422T174236
CREATED:20260209T201051Z
LAST-MODIFIED:20260209T201051Z
UID:721-1777629600-1777658400@dbf-s.de
SUMMARY:Fahrtag (Maifeiertag)
DESCRIPTION:Fahrbetrieb an Feiertagen.
URL:https://dbf-s.de/event/fahrtag-maifeiertag/
CATEGORIES:Feiertag
END:VEVENT
BEGIN:VEVENT
DTSTART;TZID=Europe/Berlin:20260503T100000
DTEND;TZID=Europe/Berlin:20260503T180000
DTSTAMP:20260422T174236
CREATED:20260209T201051Z
LAST-MODIFIED:20260209T201051Z
UID:722-1777802400-1777831200@dbf-s.de
SUMMARY:Fahrtag
DESCRIPTION:Regulärer Fahrbetrieb So.
URL:https://dbf-s.de/event/fahrtag-4/
CATEGORIES:Fahrtag
END:VEVENT
BEGIN:VEVENT
DTSTART;TZID=Europe/Berlin:20260510T100000
DTEND;TZID=Europe/Berlin:20260510T180000
DTSTAMP:20260422T174236
CREATED:20260209T201053Z
LAST-MODIFIED:20260209T201053Z
UID:723-1778407200-1778436000@dbf-s.de
SUMMARY:Muttertag
DESCRIPTION:Mütter bekommen eine Rose geschenkt.
URL:https://dbf-s.de/event/muttertag/
CATEGORIES:Sonderveranstaltung
END:VEVENT
BEGIN:VEVENT
DTSTART;TZID=Europe/Berlin:20260514T100000
DTEND;TZID=Europe/Berlin:20260514T180000
DTSTAMP:20260422T174236
CREATED:20260209T201055Z
LAST-MODIFIED:20260209T201055Z
UID:724-1778752800-1778781600@dbf-s.de
SUMMARY:Fahrtag (Christi Himmelfahrt)
DESCRIPTION:Fahrbetrieb an Feiertagen.
URL:https://dbf-s.de/event/fahrtag-christi-himmelfahrt/
CATEGORIES:Feiertag
END:VEVENT
BEGIN:VEVENT
DTSTART;TZID=Europe/Berlin:20260517T100000
DTEND;TZID=Europe/Berlin:20260517T180000
DTSTAMP:20260422T174236
CREATED:20260209T201056Z
LAST-MODIFIED:20260209T201056Z
UID:725-1779012000-1779040800@dbf-s.de
SUMMARY:Fahrtag
DESCRIPTION:Regulärer Fahrbetrieb So.
URL:https://dbf-s.de/event/fahrtag-5/
CATEGORIES:Fahrtag
END:VEVENT
BEGIN:VEVENT
DTSTART;TZID=Europe/Berlin:20260524T100000
DTEND;TZID=Europe/Berlin:20260524T180000
DTSTAMP:20260422T174236
CREATED:20260209T201115Z
LAST-MODIFIED:20260209T201115Z
UID:726-1779616800-1779645600@dbf-s.de
SUMMARY:Fahrtag
DESCRIPTION:Regulärer Fahrbetrieb So.
URL:https://dbf-s.de/event/fahrtag-6/
CATEGORIES:Fahrtag
END:VEVENT
BEGIN:VEVENT
DTSTART;TZID=Europe/Berlin:20260525T100000
DTEND;TZID=Europe/Berlin:20260525T180000
DTSTAMP:20260422T174236
CREATED:20260209T201116Z
LAST-MODIFIED:20260209T201116Z
UID:727-1779703200-1779732000@dbf-s.de
SUMMARY:Fahrtag (Pfingstmontag)
DESCRIPTION:Fahrbetrieb an Feiertagen.
URL:https://dbf-s.de/event/fahrtag-pfingstmontag/
CATEGORIES:Feiertag
END:VEVENT
BEGIN:VEVENT
DTSTART;TZID=Europe/Berlin:20260531T100000
DTEND;TZID=Europe/Berlin:20260531T180000
DTSTAMP:20260422T174236
CREATED:20260209T201117Z
LAST-MODIFIED:20260209T201117Z
UID:728-1780221600-1780250400@dbf-s.de
SUMMARY:Fahrtag
DESCRIPTION:Regulärer Fahrbetrieb So.
URL:https://dbf-s.de/event/fahrtag-7/
CATEGORIES:Fahrtag
END:VEVENT
BEGIN:VEVENT
DTSTART;TZID=Europe/Berlin:20260604T100000
DTEND;TZID=Europe/Berlin:20260604T180000
DTSTAMP:20260422T174236
CREATED:20260209T201117Z
LAST-MODIFIED:20260209T201117Z
UID:729-1780567200-1780596000@dbf-s.de
SUMMARY:Fahrtag (Fronleichnam)
DESCRIPTION:Fahrbetrieb an Feiertagen.
URL:https://dbf-s.de/event/fahrtag-fronleichnam/
CATEGORIES:Feiertag
END:VEVENT
BEGIN:VEVENT
DTSTART;TZID=Europe/Berlin:20260607T100000
DTEND;TZID=Europe/Berlin:20260607T180000
DTSTAMP:20260422T174236
CREATED:20260209T201118Z
LAST-MODIFIED:20260209T201118Z
UID:730-1780826400-1780855200@dbf-s.de
SUMMARY:Fahrtag
DESCRIPTION:Regulärer Fahrbetrieb So.
URL:https://dbf-s.de/event/fahrtag-8/
CATEGORIES:Fahrtag
END:VEVENT
BEGIN:VEVENT
DTSTART;TZID=Europe/Berlin:20260614T100000
DTEND;TZID=Europe/Berlin:20260614T180000
DTSTAMP:20260422T174236
CREATED:20260209T201131Z
LAST-MODIFIED:20260209T201131Z
UID:731-1781431200-1781460000@dbf-s.de
SUMMARY:Fahrtag
DESCRIPTION:Regulärer Fahrbetrieb So.
URL:https://dbf-s.de/event/fahrtag-9/
CATEGORIES:Fahrtag
END:VEVENT
BEGIN:VEVENT
DTSTART;TZID=Europe/Berlin:20260621T100000
DTEND;TZID=Europe/Berlin:20260621T180000
DTSTAMP:20260422T174236
CREATED:20260209T201132Z
LAST-MODIFIED:20260209T201132Z
UID:732-1782036000-1782064800@dbf-s.de
SUMMARY:Fahrtag
DESCRIPTION:Regulärer Fahrbetrieb So.
URL:https://dbf-s.de/event/fahrtag-10/
CATEGORIES:Fahrtag
END:VEVENT
BEGIN:VEVENT
DTSTART;TZID=Europe/Berlin:20260628T100000
DTEND;TZID=Europe/Berlin:20260628T180000
DTSTAMP:20260422T174236
CREATED:20260209T201135Z
LAST-MODIFIED:20260209T202114Z
UID:735-1782640800-1782669600@dbf-s.de
SUMMARY:Fahrtag
DESCRIPTION:Regulärer Fahrbetrieb So.
URL:https://dbf-s.de/event/fahrtag-12/
CATEGORIES:Fahrtag
END:VEVENT
BEGIN:VEVENT
DTSTART;TZID=Europe/Berlin:20260705T100000
DTEND;TZID=Europe/Berlin:20260705T180000
DTSTAMP:20260422T174236
CREATED:20260209T201133Z
LAST-MODIFIED:20260209T201133Z
UID:734-1783245600-1783274400@dbf-s.de
SUMMARY:Fahrtag
DESCRIPTION:Regulärer Fahrbetrieb So.
URL:https://dbf-s.de/event/fahrtag-11/
CATEGORIES:Fahrtag
END:VEVENT
BEGIN:VEVENT
DTSTART;TZID=Europe/Berlin:20260712T100000
DTEND;TZID=Europe/Berlin:20260712T180000
DTSTAMP:20260422T174236
CREATED:20260209T201132Z
LAST-MODIFIED:20260209T201955Z
UID:733-1783850400-1783879200@dbf-s.de
SUMMARY:Dixielandexpress
DESCRIPTION:Sonderveranstaltung mit dem Dixielandexpress.
URL:https://dbf-s.de/event/dixielandexpress/
CATEGORIES:Sonderveranstaltung
END:VEVENT
BEGIN:VEVENT
DTSTART;TZID=Europe/Berlin:20260719T100000
DTEND;TZID=Europe/Berlin:20260719T180000
DTSTAMP:20260422T174236
CREATED:20260209T201146Z
LAST-MODIFIED:20260209T201146Z
UID:736-1784455200-1784484000@dbf-s.de
SUMMARY:Fahrtag
DESCRIPTION:Regulärer Fahrbetrieb So.
URL:https://dbf-s.de/event/fahrtag-13/
CATEGORIES:Fahrtag
END:VEVENT
BEGIN:VEVENT
DTSTART;TZID=Europe/Berlin:20260726T100000
DTEND;TZID=Europe/Berlin:20260726T180000
DTSTAMP:20260422T174236
CREATED:20260209T201202Z
LAST-MODIFIED:20260209T202343Z
UID:742-1785060000-1785088800@dbf-s.de
SUMMARY:Fahrtag
DESCRIPTION:Regulärer Fahrbetrieb So.
URL:https://dbf-s.de/event/fahrtag-17/
CATEGORIES:Fahrtag
END:VEVENT
BEGIN:VEVENT
DTSTART;TZID=Europe/Berlin:20260802T100000
DTEND;TZID=Europe/Berlin:20260802T180000
DTSTAMP:20260422T174236
CREATED:20260209T201147Z
LAST-MODIFIED:20260209T202219Z
UID:737-1785664800-1785693600@dbf-s.de
SUMMARY:Teddybärentag
DESCRIPTION:Kinder bis 17 Jahre mit Kuscheltier fahren frei.
URL:https://dbf-s.de/event/teddybaerentag/
CATEGORIES:Sonderveranstaltung
END:VEVENT
BEGIN:VEVENT
DTSTART;TZID=Europe/Berlin:20260809T100000
DTEND;TZID=Europe/Berlin:20260809T180000
DTSTAMP:20260422T174236
CREATED:20260209T201151Z
LAST-MODIFIED:20260209T201151Z
UID:739-1786269600-1786298400@dbf-s.de
SUMMARY:Fahrtag
DESCRIPTION:Regulärer Fahrbetrieb So.
URL:https://dbf-s.de/event/fahrtag-14/
CATEGORIES:Fahrtag
END:VEVENT
BEGIN:VEVENT
DTSTART;TZID=Europe/Berlin:20260816T100000
DTEND;TZID=Europe/Berlin:20260816T180000
DTSTAMP:20260422T174236
CREATED:20260209T201153Z
LAST-MODIFIED:20260209T201153Z
UID:740-1786874400-1786903200@dbf-s.de
SUMMARY:Fahrtag
DESCRIPTION:Regulärer Fahrbetrieb So.
URL:https://dbf-s.de/event/fahrtag-15/
CATEGORIES:Fahrtag
END:VEVENT
BEGIN:VEVENT
DTSTART;TZID=Europe/Berlin:20260823T100000
DTEND;TZID=Europe/Berlin:20260823T180000
DTSTAMP:20260422T174236
CREATED:20260209T201200Z
LAST-MODIFIED:20260209T201200Z
UID:741-1787479200-1787508000@dbf-s.de
SUMMARY:Fahrtag
DESCRIPTION:Regulärer Fahrbetrieb So.
URL:https://dbf-s.de/event/fahrtag-16/
CATEGORIES:Fahrtag
END:VEVENT
BEGIN:VEVENT
DTSTART;TZID=Europe/Berlin:20260830T100000
DTEND;TZID=Europe/Berlin:20260830T180000
DTSTAMP:20260422T174236
CREATED:20260209T201149Z
LAST-MODIFIED:20260209T202251Z
UID:738-1788084000-1788112800@dbf-s.de
SUMMARY:Dampflokfest
DESCRIPTION:Großes Dampflokfest beim DBF-S.
URL:https://dbf-s.de/event/dampflokfest/
CATEGORIES:Sonderveranstaltung
END:VEVENT
BEGIN:VEVENT
DTSTART;TZID=Europe/Berlin:20260906T100000
DTEND;TZID=Europe/Berlin:20260906T180000
DTSTAMP:20260422T174236
CREATED:20260209T201204Z
LAST-MODIFIED:20260209T201204Z
UID:743-1788688800-1788717600@dbf-s.de
SUMMARY:Fahrtag
DESCRIPTION:Regulärer Fahrbetrieb So.
URL:https://dbf-s.de/event/fahrtag-18/
CATEGORIES:Fahrtag
END:VEVENT
BEGIN:VEVENT
DTSTART;TZID=Europe/Berlin:20260913T100000
DTEND;TZID=Europe/Berlin:20260913T180000
DTSTAMP:20260422T174236
CREATED:20260209T201205Z
LAST-MODIFIED:20260209T201205Z
UID:744-1789293600-1789322400@dbf-s.de
SUMMARY:Fahrtag
DESCRIPTION:Regulärer Fahrbetrieb So.
URL:https://dbf-s.de/event/fahrtag-19/
CATEGORIES:Fahrtag
END:VEVENT
BEGIN:VEVENT
DTSTART;TZID=Europe/Berlin:20260920T100000
DTEND;TZID=Europe/Berlin:20260920T180000
DTSTAMP:20260422T174236
CREATED:20260209T201205Z
LAST-MODIFIED:20260209T201205Z
UID:745-1789898400-1789927200@dbf-s.de
SUMMARY:Fahrtag
DESCRIPTION:Regulärer Fahrbetrieb So.
URL:https://dbf-s.de/event/fahrtag-20/
CATEGORIES:Fahrtag
END:VEVENT
BEGIN:VEVENT
DTSTART;TZID=Europe/Berlin:20260927T100000
DTEND;TZID=Europe/Berlin:20260927T180000
DTSTAMP:20260422T174236
CREATED:20260209T201219Z
LAST-MODIFIED:20260209T201219Z
UID:746-1790503200-1790532000@dbf-s.de
SUMMARY:Fahrtag
DESCRIPTION:Regulärer Fahrbetrieb So.
URL:https://dbf-s.de/event/fahrtag-21/
CATEGORIES:Fahrtag
END:VEVENT
BEGIN:VEVENT
DTSTART;TZID=Europe/Berlin:20261003T100000
DTEND;TZID=Europe/Berlin:20261003T180000
DTSTAMP:20260422T174236
CREATED:20260209T201220Z
LAST-MODIFIED:20260209T201220Z
UID:747-1791021600-1791050400@dbf-s.de
SUMMARY:Fahrtag (Tag der dt. Einheit)
DESCRIPTION:Fahrbetrieb an Feiertagen.
URL:https://dbf-s.de/event/fahrtag-tag-der-dt-einheit/
CATEGORIES:Feiertag
END:VEVENT
BEGIN:VEVENT
DTSTART;TZID=Europe/Berlin:20261031T160000
DTEND;TZID=Europe/Berlin:20261031T200000
DTSTAMP:20260422T174236
CREATED:20260209T201222Z
LAST-MODIFIED:20260209T202647Z
UID:748-1793462400-1793476800@dbf-s.de
SUMMARY:Halloween
DESCRIPTION:Sonderfahrt zu Halloween.
URL:https://dbf-s.de/event/halloween/
CATEGORIES:Sonderveranstaltung
END:VEVENT
BEGIN:VEVENT
DTSTART;TZID=Europe/Berlin:20261206T110000
DTEND;TZID=Europe/Berlin:20261206T160000
DTSTAMP:20260422T174236
CREATED:20260209T201223Z
LAST-MODIFIED:20260209T202650Z
UID:749-1796554800-1796572800@dbf-s.de
SUMMARY:Nikolaus
DESCRIPTION:Sonderfahrt zum Nikolaus.
URL:https://dbf-s.de/event/nikolaus/
CATEGORIES:Sonderveranstaltung
END:VEVENT
END:VCALENDAR